BEGIN:VCALENDAR
VERSION:2.0
PRODID:-//hacksw/handcal//NONSGML v1.0//EN
BEGIN:VEVENT
SUMMARY:Sorties Espoir Russan
UID:b9b75dec-0567-49fb-911c-49eb08a297a5
DTSTART:20260412T073000Z
DTEND:20260412T153000Z
LOCATION:Localisation   
CATEGORIES:Sportif
STATUS:
URL;VALUE=URI:https://www.rocnpofgrimp.com/evenements/2026/04/12/sorties-espoir-russan-2301506
END:VEVENT
END:VCALENDAR
